BEGIN:VCALENDAR
VERSION:2.0
PRODID:-//Contratero//ES
CALSCALE:GREGORIAN
METHOD:PUBLISH
BEGIN:VEVENT
UID:2025-0157@contratero.es
DTSTAMP:20260420T090331Z
DTSTART:20260309T235959
DTEND:20260310T005959
SUMMARY:Cierre: Servicio de Mantenimiento de las Plataformas Tecno
DESCRIPTION:Servicio de Mantenimiento de las Plataformas Tecnológicas Sharepoint\, IIS Y SQL de la Casa de S.M. El Rey\\n\\nOrganismo: Casa de S.M. el Rey\\n\\nVer en Contratero: https://contratero.es/contracts/2025-0157
URL:https://contratero.es/contracts/2025-0157
STATUS:CONFIRMED
BEGIN:VALARM
TRIGGER:-P1D
ACTION:DISPLAY
DESCRIPTION:Recordatorio: Servicio de Mantenimiento de l
END:VALARM
END:VEVENT
END:VCALENDAR