BEGIN:VCALENDAR
VERSION:2.0
PRODID:-//Contratero//ES
CALSCALE:GREGORIAN
METHOD:PUBLISH
BEGIN:VEVENT
UID:2025-01583@contratero.es
DTSTAMP:20260423T165037Z
DTSTART:20251030T235959
DTEND:20251031T005959
SUMMARY:Cierre: Servicio de auditorías de seguridad 2025 sobre los
DESCRIPTION:Servicio de auditorías de seguridad 2025 sobre los sistemas de información de Ingeniería de Sistemas para la Defensa de España\, S.A.\, S.M.E.\, M.P.\\n\\nOrganismo: Consejero Delegado de Ingeniería de Sistemas para la Defensa de España S.A.\, S.M.E. y M.P.\\n\\nVer en Contratero: https://contratero.es/contracts/2025-01583
URL:https://contratero.es/contracts/2025-01583
STATUS:CONFIRMED
BEGIN:VALARM
TRIGGER:-P1D
ACTION:DISPLAY
DESCRIPTION:Recordatorio: Servicio de auditorías de segu
END:VALARM
END:VEVENT
END:VCALENDAR