BEGIN:VCALENDAR
VERSION:2.0
PRODID:-//Contratero//ES
CALSCALE:GREGORIAN
METHOD:PUBLISH
BEGIN:VEVENT
UID:2025-01968@contratero.es
DTSTAMP:20260423T103309Z
DTSTART:20260216T235959
DTEND:20260217T005959
SUMMARY:Cierre: Servicios de consultoría tecnológica de inteligenc
DESCRIPTION:Servicios de consultoría tecnológica de inteligencia de negocio en el ámbito del seguimiento del Plan Industrial y Tecnológico de Seguridad y Defensa (PITSD)\\n\\nOrganismo: Consejero Delegado de Ingeniería de Sistemas para la Defensa de España S.A.\, S.M.E. y M.P.\\n\\nVer en Contratero: https://contratero.es/contracts/2025-01968
URL:https://contratero.es/contracts/2025-01968
STATUS:CONFIRMED
BEGIN:VALARM
TRIGGER:-P1D
ACTION:DISPLAY
DESCRIPTION:Recordatorio: Servicios de consultoría tecno
END:VALARM
END:VEVENT
END:VCALENDAR