BEGIN:VCALENDAR
VERSION:2.0
PRODID:-//Contratero//ES
CALSCALE:GREGORIAN
METHOD:PUBLISH
BEGIN:VEVENT
UID:2025-02129@contratero.es
DTSTAMP:20260420T111618Z
DTSTART:20260220T235959
DTEND:20260221T005959
SUMMARY:Cierre: Servicio de digitalización del informe de prestaci
DESCRIPTION:Servicio de digitalización del informe de prestación de servicio (IPS) de Renfe Viajeros S.M.E\, S.A.\\n\\nOrganismo: Dirección General de Renfe Viajeros Sociedad Mercantil Estatal\, S.A.\\n\\nVer en Contratero: https://contratero.es/contracts/2025-02129
URL:https://contratero.es/contracts/2025-02129
STATUS:CONFIRMED
BEGIN:VALARM
TRIGGER:-P1D
ACTION:DISPLAY
DESCRIPTION:Recordatorio: Servicio de digitalización del
END:VALARM
END:VEVENT
END:VCALENDAR