BEGIN:VCALENDAR
VERSION:2.0
PRODID:-//Contratero//ES
CALSCALE:GREGORIAN
METHOD:PUBLISH
BEGIN:VEVENT
UID:2025-033@contratero.es
DTSTAMP:20260425T001013Z
DTSTART:20251118T235959
DTEND:20251119T005959
SUMMARY:Cierre: Servicio de asesoramiento y apoyo para la implanta
DESCRIPTION:Servicio de asesoramiento y apoyo para la implantación de un modelo operativo orientado al producto a través del uso de metodologías ágiles a escala para INFORMA D&B\, S.A.U.(SME).\\n\\nOrganismo: Junta de Compras de Informa DB\, S.A.\\n\\nVer en Contratero: https://contratero.es/contracts/2025-033
URL:https://contratero.es/contracts/2025-033
STATUS:CONFIRMED
BEGIN:VALARM
TRIGGER:-P1D
ACTION:DISPLAY
DESCRIPTION:Recordatorio: Servicio de asesoramiento y ap
END:VALARM
END:VEVENT
END:VCALENDAR