BEGIN:VCALENDAR
VERSION:2.0
PRODID:-//Contratero//ES
CALSCALE:GREGORIAN
METHOD:PUBLISH
BEGIN:VEVENT
UID:2025-041@contratero.es
DTSTAMP:20260422T130623Z
DTSTART:20251201T235959
DTEND:20251202T005959
SUMMARY:Cierre: Suministro de licencias SAS para Informa D&B S.A.U
DESCRIPTION:Suministro de licencias SAS para Informa D&B S.A.U. (S.M.E.)\\n\\nOrganismo: Junta de Compras de Informa DB\, S.A.\\n\\nVer en Contratero: https://contratero.es/contracts/2025-041
URL:https://contratero.es/contracts/2025-041
STATUS:CONFIRMED
BEGIN:VALARM
TRIGGER:-P1D
ACTION:DISPLAY
DESCRIPTION:Recordatorio: Suministro de licencias SAS pa
END:VALARM
END:VEVENT
END:VCALENDAR