BEGIN:VCALENDAR
VERSION:2.0
PRODID:-//Contratero//ES
CALSCALE:GREGORIAN
METHOD:PUBLISH
BEGIN:VEVENT
UID:2025-050-S@contratero.es
DTSTAMP:20260421T134833Z
DTSTART:20250901T235959
DTEND:20250902T005959
SUMMARY:Cierre: Suministro de licencias de programas de software\, 
DESCRIPTION:Suministro de licencias de programas de software\, que comprende la gestión de proveedores y mantenimiento de licencias de diversas aplicaciones utilizadas por el Ayuntamiento de Palma.\\n\\nOrganismo: Junta de Gobierno del Ayuntamiento de Palma de Mallorca\\n\\nVer en Contratero: https://contratero.es/contracts/2025-050-S
URL:https://contratero.es/contracts/2025-050-S
STATUS:CONFIRMED
BEGIN:VALARM
TRIGGER:-P1D
ACTION:DISPLAY
DESCRIPTION:Recordatorio: Suministro de licencias de pro
END:VALARM
END:VEVENT
END:VCALENDAR