BEGIN:VCALENDAR
VERSION:2.0
PRODID:-//Contratero//ES
CALSCALE:GREGORIAN
METHOD:PUBLISH
BEGIN:VEVENT
UID:2025-16@contratero.es
DTSTAMP:20260423T004722Z
DTSTART:20251117T235959
DTEND:20251118T005959
SUMMARY:Cierre: Servicios de soporte y mantenimiento de los sistem
DESCRIPTION:Servicios de soporte y mantenimiento de los sistemas físicos de la Dirección General del Catastro\\n\\nOrganismo: Junta de Contratación de los Servicios Centrales en el Ministerio de Hacienda\\n\\nVer en Contratero: https://contratero.es/contracts/2025-16
URL:https://contratero.es/contracts/2025-16
STATUS:CONFIRMED
BEGIN:VALARM
TRIGGER:-P1D
ACTION:DISPLAY
DESCRIPTION:Recordatorio: Servicios de soporte y manteni
END:VALARM
END:VEVENT
END:VCALENDAR