BEGIN:VCALENDAR
VERSION:2.0
PRODID:-//Contratero//ES
CALSCALE:GREGORIAN
METHOD:PUBLISH
BEGIN:VEVENT
UID:2025-P038@contratero.es
DTSTAMP:20260422T174431Z
DTSTART:20250612T235959
DTEND:20250613T005959
SUMMARY:Cierre: Servicio de Plataforma de Administración y Contabi
DESCRIPTION:Servicio de Plataforma de Administración y Contabilidad de REDs y CIRBE\\n\\nOrganismo: Consejo de Administración de la Sociedad de Gestión de Activos procedentes de la Reestructuración Bancaria\, S.A\\n\\nVer en Contratero: https://contratero.es/contracts/2025-P038
URL:https://contratero.es/contracts/2025-P038
STATUS:CONFIRMED
BEGIN:VALARM
TRIGGER:-P1D
ACTION:DISPLAY
DESCRIPTION:Recordatorio: Servicio de Plataforma de Admi
END:VALARM
END:VEVENT
END:VCALENDAR