BEGIN:VCALENDAR
VERSION:2.0
PRODID:-//Contratero//ES
CALSCALE:GREGORIAN
METHOD:PUBLISH
BEGIN:VEVENT
UID:2025-P146@contratero.es
DTSTAMP:20260424T114608Z
DTSTART:20251013T235959
DTEND:20251014T005959
SUMMARY:Cierre: Servicios extraordinarios para la externalización 
DESCRIPTION:Servicios extraordinarios para la externalización de procesos administrativos y operativos de soporte para Back Office y ejecución de Task Forces\\n\\nOrganismo: Consejo de Administración de la Sociedad de Gestión de Activos procedentes de la Reestructuración Bancaria\, S.A\\n\\nVer en Contratero: https://contratero.es/contracts/2025-P146
URL:https://contratero.es/contracts/2025-P146
STATUS:CONFIRMED
BEGIN:VALARM
TRIGGER:-P1D
ACTION:DISPLAY
DESCRIPTION:Recordatorio: Servicios extraordinarios para
END:VALARM
END:VEVENT
END:VCALENDAR