BEGIN:VCALENDAR
VERSION:2.0
PRODID:-//Contratero//ES
CALSCALE:GREGORIAN
METHOD:PUBLISH
BEGIN:VEVENT
UID:2025/0000000273@contratero.es
DTSTAMP:20260423T201718Z
DTSTART:20251126T235959
DTEND:20251127T005959
SUMMARY:Cierre: Servicios de interconectividad del sistema SAP de 
DESCRIPTION:Servicios de interconectividad del sistema SAP de la Mutua de Accidentes de Canarias\, Mutua Colaboradora con la Seguridad Social núm. 272\, con las entidades tributarias competentes para la gestión del...\\n\\nOrganismo: Dirección Gerencia de la Mutua de Accidentes de Canarias\\n\\nVer en Contratero: https://contratero.es/contracts/2025/0000000273
URL:https://contratero.es/contracts/2025/0000000273
STATUS:CONFIRMED
BEGIN:VALARM
TRIGGER:-P1D
ACTION:DISPLAY
DESCRIPTION:Recordatorio: Servicios de interconectividad
END:VALARM
END:VEVENT
END:VCALENDAR