BEGIN:VCALENDAR
VERSION:2.0
PRODID:-//Contratero//ES
CALSCALE:GREGORIAN
METHOD:PUBLISH
BEGIN:VEVENT
UID:2025/0000056@contratero.es
DTSTAMP:20260421T184921Z
DTSTART:20251215T235959
DTEND:20251216T005959
SUMMARY:Cierre: Servicio de aula virtual\, plataforma de teleformac
DESCRIPTION:Servicio de aula virtual\, plataforma de teleformación y soporte a cursos y jornadas del Plan de Formación para técnicos del medio rural del MAPA\\n\\nOrganismo: Junta de Contratación del Ministerio de Agricultura\, Pesca y Alimentación\\n\\nVer en Contratero: https://contratero.es/contracts/2025/0000056
URL:https://contratero.es/contracts/2025/0000056
STATUS:CONFIRMED
BEGIN:VALARM
TRIGGER:-P1D
ACTION:DISPLAY
DESCRIPTION:Recordatorio: Servicio de aula virtual\, plat
END:VALARM
END:VEVENT
END:VCALENDAR