BEGIN:VCALENDAR
VERSION:2.0
PRODID:-//Contratero//ES
CALSCALE:GREGORIAN
METHOD:PUBLISH
BEGIN:VEVENT
UID:2025/00004722W@contratero.es
DTSTAMP:20260421T174839Z
DTSTART:20250630T235959
DTEND:20250701T005959
SUMMARY:Cierre: Contratar el mantenimiento del software para la re
DESCRIPTION:Contratar el mantenimiento del software para la realización de copias de seguridad\, VEEAM BACKUP para el ayuntamiento de Vila-real\\n\\nOrganismo: Alcaldia del Ayuntamiento de Vila-real\\n\\nVer en Contratero: https://contratero.es/contracts/2025/00004722W
URL:https://contratero.es/contracts/2025/00004722W
STATUS:CONFIRMED
BEGIN:VALARM
TRIGGER:-P1D
ACTION:DISPLAY
DESCRIPTION:Recordatorio: Contratar el mantenimiento del
END:VALARM
END:VEVENT
END:VCALENDAR