BEGIN:VCALENDAR
VERSION:2.0
PRODID:-//Contratero//ES
CALSCALE:GREGORIAN
METHOD:PUBLISH
BEGIN:VEVENT
UID:2025/00025150F@contratero.es
DTSTAMP:20260419T214827Z
DTSTART:20260202T235959
DTEND:20260203T005959
SUMMARY:Cierre: Servicios de migración de SICAP a GEMA para el Ayu
DESCRIPTION:Servicios de migración de SICAP a GEMA para el Ayuntamiento de Vila-real\\n\\nOrganismo: Alcaldia del Ayuntamiento de Vila-real\\n\\nVer en Contratero: https://contratero.es/contracts/2025/00025150F
URL:https://contratero.es/contracts/2025/00025150F
STATUS:CONFIRMED
BEGIN:VALARM
TRIGGER:-P1D
ACTION:DISPLAY
DESCRIPTION:Recordatorio: Servicios de migración de SICA
END:VALARM
END:VEVENT
END:VCALENDAR