BEGIN:VCALENDAR
VERSION:2.0
PRODID:-//Contratero//ES
CALSCALE:GREGORIAN
METHOD:PUBLISH
BEGIN:VEVENT
UID:2025/000614-PCAB@contratero.es
DTSTAMP:20260423T064733Z
DTSTART:20251126T235959
DTEND:20251127T005959
SUMMARY:Cierre: Suministro para la adquisición de licencias y de a
DESCRIPTION:Suministro para la adquisición de licencias y de actualizaciones del software ZWCAD\\n\\nOrganismo: Presidencia de la Diputación Provincial de Sevilla\\n\\nVer en Contratero: https://contratero.es/contracts/2025/000614-PCAB
URL:https://contratero.es/contracts/2025/000614-PCAB
STATUS:CONFIRMED
BEGIN:VALARM
TRIGGER:-P1D
ACTION:DISPLAY
DESCRIPTION:Recordatorio: Suministro para la adquisición
END:VALARM
END:VEVENT
END:VCALENDAR