BEGIN:VCALENDAR
VERSION:2.0
PRODID:-//Contratero//ES
CALSCALE:GREGORIAN
METHOD:PUBLISH
BEGIN:VEVENT
UID:2025/00094@contratero.es
DTSTAMP:20260421T040020Z
DTSTART:20251027T235959
DTEND:20251028T005959
SUMMARY:Cierre: Turnitin Feedback studio and Turnitin Originality
DESCRIPTION:Turnitin Feedback studio and Turnitin Originality\\n\\nOrganismo: Rectorado de la Universidad de Córdoba\\n\\nVer en Contratero: https://contratero.es/contracts/2025/00094
URL:https://contratero.es/contracts/2025/00094
STATUS:CONFIRMED
BEGIN:VALARM
TRIGGER:-P1D
ACTION:DISPLAY
DESCRIPTION:Recordatorio: Turnitin Feedback studio and T
END:VALARM
END:VEVENT
END:VCALENDAR