BEGIN:VCALENDAR
VERSION:2.0
PRODID:-//Contratero//ES
CALSCALE:GREGORIAN
METHOD:PUBLISH
BEGIN:VEVENT
UID:2025/001044@contratero.es
DTSTAMP:20260421T001841Z
DTSTART:20251028T235959
DTEND:20251029T005959
SUMMARY:Cierre: Suministro consistente en la adquisición de doscie
DESCRIPTION:Suministro consistente en la adquisición de doscientas cuarenta licencias de uso de cuentas de correo Microsoft para la Agencia Tributaria del Ayuntamiento de Sevilla\\n\\nOrganismo: Gerencia de la Agencia Tributaria de Sevilla\\n\\nVer en Contratero: https://contratero.es/contracts/2025/001044
URL:https://contratero.es/contracts/2025/001044
STATUS:CONFIRMED
BEGIN:VALARM
TRIGGER:-P1D
ACTION:DISPLAY
DESCRIPTION:Recordatorio: Suministro consistente en la a
END:VALARM
END:VEVENT
END:VCALENDAR