BEGIN:VCALENDAR
VERSION:2.0
PRODID:-//Contratero//ES
CALSCALE:GREGORIAN
METHOD:PUBLISH
BEGIN:VEVENT
UID:2025/004@contratero.es
DTSTAMP:20260425T155135Z
DTSTART:20250805T235959
DTEND:20250806T005959
SUMMARY:Cierre: Licitación del contrato de suministro\, instalación
DESCRIPTION:Licitación del contrato de suministro\, instalación y puesta en funcionamiento de dos plataformas software de apoyo a la investigación clínica: gestión de estudios y análisis de viabilidad y reclutamie...\\n\\nOrganismo: Dirección Gerencia de la Fundación Andaluza Beturia para la Investigación en Salud (F.A.B.I.S.)\\n\\nVer en Contratero: https://contratero.es/contracts/2025/004
URL:https://contratero.es/contracts/2025/004
STATUS:CONFIRMED
BEGIN:VALARM
TRIGGER:-P1D
ACTION:DISPLAY
DESCRIPTION:Recordatorio: Licitación del contrato de sum
END:VALARM
END:VEVENT
END:VCALENDAR