BEGIN:VCALENDAR
VERSION:2.0
PRODID:-//Contratero//ES
CALSCALE:GREGORIAN
METHOD:PUBLISH
BEGIN:VEVENT
UID:2025/0071@contratero.es
DTSTAMP:20260419T154541Z
DTSTART:20251230T235959
DTEND:20251231T005959
SUMMARY:Cierre: Servicio de gestión de dominios en internet para e
DESCRIPTION:Servicio de gestión de dominios en internet para el Ayuntamiento de Ponferrada\\n\\nOrganismo: Alcaldia del Ayuntamiento de Ponferrada\\n\\nVer en Contratero: https://contratero.es/contracts/2025/0071
URL:https://contratero.es/contracts/2025/0071
STATUS:CONFIRMED
BEGIN:VALARM
TRIGGER:-P1D
ACTION:DISPLAY
DESCRIPTION:Recordatorio: Servicio de gestión de dominio
END:VALARM
END:VEVENT
END:VCALENDAR