BEGIN:VCALENDAR
VERSION:2.0
PRODID:-//Contratero//ES
CALSCALE:GREGORIAN
METHOD:PUBLISH
BEGIN:VEVENT
UID:2025/009560@contratero.es
DTSTAMP:20260420T051022Z
DTSTART:20251201T235959
DTEND:20251202T005959
SUMMARY:Cierre: Servicios para el soporte\, mantenimiento y desarro
DESCRIPTION:Servicios para el soporte\, mantenimiento y desarrollo de nuevas funcionalidades de la Plataforma FOCO\\n\\nOrganismo: Secretaría General de la Consejería de Hacienda\, Administraciones Públicas y Transformación Digital de la Junta de Comunidades de Castilla-La Mancha\\n\\nVer en Contratero: https://contratero.es/contracts/2025/009560
URL:https://contratero.es/contracts/2025/009560
STATUS:CONFIRMED
BEGIN:VALARM
TRIGGER:-P1D
ACTION:DISPLAY
DESCRIPTION:Recordatorio: Servicios para el soporte\, man
END:VALARM
END:VEVENT
END:VCALENDAR