BEGIN:VCALENDAR
VERSION:2.0
PRODID:-//Contratero//ES
CALSCALE:GREGORIAN
METHOD:PUBLISH
BEGIN:VEVENT
UID:2025/018277@contratero.es
DTSTAMP:20260421T151526Z
DTSTART:20260320T235959
DTEND:20260321T005959
SUMMARY:Cierre: Ampliación de puestos de trabajo e implantación de
DESCRIPTION:Ampliación de puestos de trabajo e implantación del Sistema NG ECALL en la Plataforma Tecnológica de Gestión de Emergencia 112 de Castilla-La Mancha.\\n\\nOrganismo: Secretaría General de la Consejería de Hacienda\, Administraciones Públicas y Transformación Digital de la Junta de Comunidades de Castilla-La Mancha\\n\\nVer en Contratero: https://contratero.es/contracts/2025/018277
URL:https://contratero.es/contracts/2025/018277
STATUS:CONFIRMED
BEGIN:VALARM
TRIGGER:-P1D
ACTION:DISPLAY
DESCRIPTION:Recordatorio: Ampliación de puestos de traba
END:VALARM
END:VEVENT
END:VCALENDAR