BEGIN:VCALENDAR
VERSION:2.0
PRODID:-//Contratero//ES
CALSCALE:GREGORIAN
METHOD:PUBLISH
BEGIN:VEVENT
UID:2025/019@contratero.es
DTSTAMP:20260421T220335Z
DTSTART:20250520T235959
DTEND:20250521T005959
SUMMARY:Cierre: Servicio de mantenimiento de las aplicaciones info
DESCRIPTION:Servicio de mantenimiento de las aplicaciones informáticas Sicalwin Aytosfactura y GPA 2025-2026\\n\\nOrganismo: Gerencia del Consejo Insular de Aguas de Tenerife\\n\\nVer en Contratero: https://contratero.es/contracts/2025/019
URL:https://contratero.es/contracts/2025/019
STATUS:CONFIRMED
BEGIN:VALARM
TRIGGER:-P1D
ACTION:DISPLAY
DESCRIPTION:Recordatorio: Servicio de mantenimiento de l
END:VALARM
END:VEVENT
END:VCALENDAR