BEGIN:VCALENDAR
VERSION:2.0
PRODID:-//Contratero//ES
CALSCALE:GREGORIAN
METHOD:PUBLISH
BEGIN:VEVENT
UID:2025/040108-65@contratero.es
DTSTAMP:20260423T152510Z
DTSTART:20251014T235959
DTEND:20251015T005959
SUMMARY:Cierre: Servicios\, suministro y mantenimiento de equipamie
DESCRIPTION:Servicios\, suministro y mantenimiento de equipamientos digitales necesarios para la investigación histórica del producto turístico "Castillos de Valladolid"\, con el fin de generar experiencias y relat...\\n\\nOrganismo: Junta de Gobierno de la Diputación Provincial de Valladolid\\n\\nVer en Contratero: https://contratero.es/contracts/2025/040108-65
URL:https://contratero.es/contracts/2025/040108-65
STATUS:CONFIRMED
BEGIN:VALARM
TRIGGER:-P1D
ACTION:DISPLAY
DESCRIPTION:Recordatorio: Servicios\, suministro y manten
END:VALARM
END:VEVENT
END:VCALENDAR