BEGIN:VCALENDAR
VERSION:2.0
PRODID:-//Contratero//ES
CALSCALE:GREGORIAN
METHOD:PUBLISH
BEGIN:VEVENT
UID:2025/068.SUM.NGSP.UC@contratero.es
DTSTAMP:20260420T190225Z
DTSTART:20251119T235959
DTEND:20251120T005959
SUMMARY:Cierre: Suministro de licencia deL software de Gestor de A
DESCRIPTION:Suministro de licencia deL software de Gestor de Animales AniBio para el Centro de Experimentación Animal (CAI de Medicina y Biología)\\n\\nOrganismo: Gerencia de la Universidad de Alcalá\\n\\nVer en Contratero: https://contratero.es/contracts/2025/068.SUM.NGSP.UC
URL:https://contratero.es/contracts/2025/068.SUM.NGSP.UC
STATUS:CONFIRMED
BEGIN:VALARM
TRIGGER:-P1D
ACTION:DISPLAY
DESCRIPTION:Recordatorio: Suministro de licencia deL sof
END:VALARM
END:VEVENT
END:VCALENDAR