BEGIN:VCALENDAR
VERSION:2.0
PRODID:-//Contratero//ES
CALSCALE:GREGORIAN
METHOD:PUBLISH
BEGIN:VEVENT
UID:2025/11093@contratero.es
DTSTAMP:20260423T103308Z
DTSTART:20251023T235959
DTEND:20251024T005959
SUMMARY:Cierre: Prestación del servicio de venta anticipada de ent
DESCRIPTION:Prestación del servicio de venta anticipada de entradas para espectáculos que se realicen en el Teatro Castelar\\n\\nOrganismo: Junta de Gobierno del Ayuntamiento de Elda\\n\\nVer en Contratero: https://contratero.es/contracts/2025/11093
URL:https://contratero.es/contracts/2025/11093
STATUS:CONFIRMED
BEGIN:VALARM
TRIGGER:-P1D
ACTION:DISPLAY
DESCRIPTION:Recordatorio: Prestación del servicio de ven
END:VALARM
END:VEVENT
END:VCALENDAR