BEGIN:VCALENDAR
VERSION:2.0
PRODID:-//Contratero//ES
CALSCALE:GREGORIAN
METHOD:PUBLISH
BEGIN:VEVENT
UID:2025/125/01@contratero.es
DTSTAMP:20260420T194225Z
DTSTART:20260107T235959
DTEND:20260108T005959
SUMMARY:Cierre: Contratación del servicio de soporte técnico exter
DESCRIPTION:Contratación del servicio de soporte técnico externo en el entorno SAP para la realización de tareas de análisis y programación para la modernización de los desarrollos en la plataforma SAP de “MUTUAL...\\n\\nOrganismo: Dirección Gerencia de Mutualia\, Mutua Colaboradora con la Seguridad Social nº 02\\n\\nVer en Contratero: https://contratero.es/contracts/2025/125/01
URL:https://contratero.es/contracts/2025/125/01
STATUS:CONFIRMED
BEGIN:VALARM
TRIGGER:-P1D
ACTION:DISPLAY
DESCRIPTION:Recordatorio: Contratación del servicio de s
END:VALARM
END:VEVENT
END:VCALENDAR