BEGIN:VCALENDAR
VERSION:2.0
PRODID:-//Contratero//ES
CALSCALE:GREGORIAN
METHOD:PUBLISH
BEGIN:VEVENT
UID:2025/13164G@contratero.es
DTSTAMP:20260421T174802Z
DTSTART:20251222T235959
DTEND:20251223T005959
SUMMARY:Cierre: Renovación y mantenimiento de la Tarjeta Ciudadana
DESCRIPTION:Renovación y mantenimiento de la Tarjeta Ciudadana del Ayuntamiento de Torrelavega\\n\\nOrganismo: Alcaldía del Ayuntamiento de Torrelavega\\n\\nVer en Contratero: https://contratero.es/contracts/2025/13164G
URL:https://contratero.es/contracts/2025/13164G
STATUS:CONFIRMED
BEGIN:VALARM
TRIGGER:-P1D
ACTION:DISPLAY
DESCRIPTION:Recordatorio: Renovación y mantenimiento de 
END:VALARM
END:VEVENT
END:VCALENDAR