BEGIN:VCALENDAR
VERSION:2.0
PRODID:-//Contratero//ES
CALSCALE:GREGORIAN
METHOD:PUBLISH
BEGIN:VEVENT
UID:2025/16/S201@contratero.es
DTSTAMP:20260426T004336Z
DTSTART:20250811T235959
DTEND:20250812T005959
SUMMARY:Cierre: Mantenimiento de las aplicaciones y plataformas in
DESCRIPTION:Mantenimiento de las aplicaciones y plataformas informáticas corporativas instaladas en el Ayuntamiento de El Puerto de Santa María.\\n\\nOrganismo: Concejalía Delegada de Contratación y Compras del Ayuntamiento de El Puerto de Santa María\\n\\nVer en Contratero: https://contratero.es/contracts/2025/16/S201
URL:https://contratero.es/contracts/2025/16/S201
STATUS:CONFIRMED
BEGIN:VALARM
TRIGGER:-P1D
ACTION:DISPLAY
DESCRIPTION:Recordatorio: Mantenimiento de las aplicacio
END:VALARM
END:VEVENT
END:VCALENDAR