BEGIN:VCALENDAR
VERSION:2.0
PRODID:-//Contratero//ES
CALSCALE:GREGORIAN
METHOD:PUBLISH
BEGIN:VEVENT
UID:2025/169@contratero.es
DTSTAMP:20260420T041545Z
DTSTART:20250325T235959
DTEND:20250326T005959
SUMMARY:Cierre: Soporte y mantenimiento de la aplicación informáti
DESCRIPTION:Soporte y mantenimiento de la aplicación informática Simplifica-Gestor de expedientes\\n\\nOrganismo: Alcaldía del Ayuntamiento de Marina de Cudeyo\\n\\nVer en Contratero: https://contratero.es/contracts/2025/169
URL:https://contratero.es/contracts/2025/169
STATUS:CONFIRMED
BEGIN:VALARM
TRIGGER:-P1D
ACTION:DISPLAY
DESCRIPTION:Recordatorio: Soporte y mantenimiento de la 
END:VALARM
END:VEVENT
END:VCALENDAR