BEGIN:VCALENDAR
VERSION:2.0
PRODID:-//Contratero//ES
CALSCALE:GREGORIAN
METHOD:PUBLISH
BEGIN:VEVENT
UID:2025/21/CSUB@contratero.es
DTSTAMP:20260421T020143Z
DTSTART:20250813T235959
DTEND:20250814T005959
SUMMARY:Cierre: Contracte de subministrament d'onze (11) llicèncie
DESCRIPTION:Contracte de subministrament d'onze (11) llicències de software Presto (Lot 1) i dues (2) llicències Autocad (Lot 2) per a l'Institut Mallorquí d'Afers Socials\\n\\nOrganismo: IMAS - Gerència\\n\\nVer en Contratero: https://contratero.es/contracts/2025/21/CSUB
URL:https://contratero.es/contracts/2025/21/CSUB
STATUS:CONFIRMED
BEGIN:VALARM
TRIGGER:-P1D
ACTION:DISPLAY
DESCRIPTION:Recordatorio: Contracte de subministrament d
END:VALARM
END:VEVENT
END:VCALENDAR