BEGIN:VCALENDAR
VERSION:2.0
PRODID:-//Contratero//ES
CALSCALE:GREGORIAN
METHOD:PUBLISH
BEGIN:VEVENT
UID:2025/216/00004@contratero.es
DTSTAMP:20260422T210503Z
DTSTART:20250818T235959
DTEND:20250819T005959
SUMMARY:Cierre: Servicio de administración y mantenimiento de los 
DESCRIPTION:Servicio de administración y mantenimiento de los sistemas Linux de la Agencia Española de Medicamentos y Productos Sanitarios\\n\\nOrganismo: Secretaría General de la Agencia Española de Medicamentos y Productos Sanitarios\\n\\nVer en Contratero: https://contratero.es/contracts/2025/216/00004
URL:https://contratero.es/contracts/2025/216/00004
STATUS:CONFIRMED
BEGIN:VALARM
TRIGGER:-P1D
ACTION:DISPLAY
DESCRIPTION:Recordatorio: Servicio de administración y m
END:VALARM
END:VEVENT
END:VCALENDAR