BEGIN:VCALENDAR
VERSION:2.0
PRODID:-//Contratero//ES
CALSCALE:GREGORIAN
METHOD:PUBLISH
BEGIN:VEVENT
UID:2025/22526@contratero.es
DTSTAMP:20260420T002710Z
DTSTART:20250604T235959
DTEND:20250605T005959
SUMMARY:Cierre: Contratación servicio mantenimiento del parque inf
DESCRIPTION:Contratación servicio mantenimiento del parque informático de la red de bibliotecas públicas de la Ciudad Autónoma de Ceuta\, Adolfo Suárez\, Miguel Ángel Blanco y Sala de Lectura del Centro Cultural Es...\\n\\nOrganismo: Consejería de Educación y Cultura\\n\\nVer en Contratero: https://contratero.es/contracts/2025/22526
URL:https://contratero.es/contracts/2025/22526
STATUS:CONFIRMED
BEGIN:VALARM
TRIGGER:-P1D
ACTION:DISPLAY
DESCRIPTION:Recordatorio: Contratación servicio mantenim
END:VALARM
END:VEVENT
END:VCALENDAR