BEGIN:VCALENDAR
VERSION:2.0
PRODID:-//Contratero//ES
CALSCALE:GREGORIAN
METHOD:PUBLISH
BEGIN:VEVENT
UID:2025/22706/018@contratero.es
DTSTAMP:20260423T004857Z
DTSTART:20251215T235959
DTEND:20251216T005959
SUMMARY:Cierre: Servicios técnicos de soporte en gestión de dosier
DESCRIPTION:Servicios técnicos de soporte en gestión de dosieres de medicamentos\, gestión de los fondos bibliotecarios y apoyo en la carga administrativa del departamento de medicamentos de uso humano.\\n\\nOrganismo: Dirección de la Agencia Española de Medicamentos y Productos Sanitarios\\n\\nVer en Contratero: https://contratero.es/contracts/2025/22706/018
URL:https://contratero.es/contracts/2025/22706/018
STATUS:CONFIRMED
BEGIN:VALARM
TRIGGER:-P1D
ACTION:DISPLAY
DESCRIPTION:Recordatorio: Servicios técnicos de soporte 
END:VALARM
END:VEVENT
END:VCALENDAR