BEGIN:VCALENDAR
VERSION:2.0
PRODID:-//Contratero//ES
CALSCALE:GREGORIAN
METHOD:PUBLISH
BEGIN:VEVENT
UID:2025/24093@contratero.es
DTSTAMP:20260422T210210Z
DTSTART:20250721T235959
DTEND:20250722T005959
SUMMARY:Cierre: Suministro y configuración de una solución back up
DESCRIPTION:Suministro y configuración de una solución back up para el Ayuntamiento de Pinto (Madrid)\\n\\nOrganismo: Concejal de Contratación del Ayuntamiento de Pinto\\n\\nVer en Contratero: https://contratero.es/contracts/2025/24093
URL:https://contratero.es/contracts/2025/24093
STATUS:CONFIRMED
BEGIN:VALARM
TRIGGER:-P1D
ACTION:DISPLAY
DESCRIPTION:Recordatorio: Suministro y configuración de 
END:VALARM
END:VEVENT
END:VCALENDAR