BEGIN:VCALENDAR
VERSION:2.0
PRODID:-//Contratero//ES
CALSCALE:GREGORIAN
METHOD:PUBLISH
BEGIN:VEVENT
UID:2025/3120014526/377@contratero.es
DTSTAMP:20260419T132857Z
DTSTART:20260421T235959
DTEND:20260422T005959
SUMMARY:Cierre: Contratación de los servicios informáticos para el
DESCRIPTION:Contratación de los servicios informáticos para el mantenimiento y evolución de los sistemas Zoom Contact Center en la Fundación Estatal para la Formación en el Empleo\, F.S.P.\\n\\nOrganismo: Fundación Estatal para la Formación en el Empleo\, F.S.P.\\n\\nVer en Contratero: https://contratero.es/contracts/2025/3120014526/377
URL:https://contratero.es/contracts/2025/3120014526/377
STATUS:CONFIRMED
BEGIN:VALARM
TRIGGER:-P1D
ACTION:DISPLAY
DESCRIPTION:Recordatorio: Contratación de los servicios 
END:VALARM
END:VEVENT
END:VCALENDAR