BEGIN:VCALENDAR
VERSION:2.0
PRODID:-//Contratero//ES
CALSCALE:GREGORIAN
METHOD:PUBLISH
BEGIN:VEVENT
UID:2025/3120014527/370@contratero.es
DTSTAMP:20260419T195520Z
DTSTART:20260218T235959
DTEND:20260219T005959
SUMMARY:Cierre: Contratación para la ampliación del servicio actua
DESCRIPTION:Contratación para la ampliación del servicio actual de mantenimiento de la nueva aplicación de subvenciones para Fundae\\n\\nOrganismo: Fundación Estatal para la Formación en el Empleo\, F.S.P.\\n\\nVer en Contratero: https://contratero.es/contracts/2025/3120014527/370
URL:https://contratero.es/contracts/2025/3120014527/370
STATUS:CONFIRMED
BEGIN:VALARM
TRIGGER:-P1D
ACTION:DISPLAY
DESCRIPTION:Recordatorio: Contratación para la ampliació
END:VALARM
END:VEVENT
END:VCALENDAR