BEGIN:VCALENDAR
VERSION:2.0
PRODID:-//Contratero//ES
CALSCALE:GREGORIAN
METHOD:PUBLISH
BEGIN:VEVENT
UID:2025/571/B5103@contratero.es
DTSTAMP:20260422T082308Z
DTSTART:20260202T235959
DTEND:20260203T005959
SUMMARY:Cierre: Suministro de licencias Office 365 y Watchguard Au
DESCRIPTION:Suministro de licencias Office 365 y Watchguard Authpoint para la Junta General del Principado de Asturias\\n\\nOrganismo: Mesa de la Cámara de la Junta General del Principado de Asturias\\n\\nVer en Contratero: https://contratero.es/contracts/2025/571/B5103
URL:https://contratero.es/contracts/2025/571/B5103
STATUS:CONFIRMED
BEGIN:VALARM
TRIGGER:-P1D
ACTION:DISPLAY
DESCRIPTION:Recordatorio: Suministro de licencias Office
END:VALARM
END:VEVENT
END:VCALENDAR