BEGIN:VCALENDAR
VERSION:2.0
PRODID:-//Contratero//ES
CALSCALE:GREGORIAN
METHOD:PUBLISH
BEGIN:VEVENT
UID:2025/7501@contratero.es
DTSTAMP:20260420T223553Z
DTSTART:20251008T235959
DTEND:20251009T005959
SUMMARY:Cierre: Contratación del suministro de plataforma para la 
DESCRIPTION:Contratación del suministro de plataforma para la gestión de recepción y tratamiento de las obras de carácter artístico y literario que se presenten a los concursos y certámenes de la convocatoria Mar...\\n\\nOrganismo: Concejalía de Economía\, Hacienda y Patrimonio del Ayuntamiento de Martos\\n\\nVer en Contratero: https://contratero.es/contracts/2025/7501
URL:https://contratero.es/contracts/2025/7501
STATUS:CONFIRMED
BEGIN:VALARM
TRIGGER:-P1D
ACTION:DISPLAY
DESCRIPTION:Recordatorio: Contratación del suministro de
END:VALARM
END:VEVENT
END:VCALENDAR