BEGIN:VCALENDAR
VERSION:2.0
PRODID:-//Contratero//ES
CALSCALE:GREGORIAN
METHOD:PUBLISH
BEGIN:VEVENT
UID:2025/8951@contratero.es
DTSTAMP:20260423T000738Z
DTSTART:20251104T235959
DTEND:20251105T005959
SUMMARY:Cierre: Contrato de suministro por lotes de licencias de s
DESCRIPTION:Contrato de suministro por lotes de licencias de sistemas de gestion de bases de datos SQL SERVER y ORACLE para el Ayuntamiento de Martos\\n\\nOrganismo: Concejalía de Economía\, Hacienda y Patrimonio del Ayuntamiento de Martos\\n\\nVer en Contratero: https://contratero.es/contracts/2025/8951
URL:https://contratero.es/contracts/2025/8951
STATUS:CONFIRMED
BEGIN:VALARM
TRIGGER:-P1D
ACTION:DISPLAY
DESCRIPTION:Recordatorio: Contrato de suministro por lot
END:VALARM
END:VEVENT
END:VCALENDAR