BEGIN:VCALENDAR
VERSION:2.0
PRODID:-//Contratero//ES
CALSCALE:GREGORIAN
METHOD:PUBLISH
BEGIN:VEVENT
UID:2025/A/SUM/0408@contratero.es
DTSTAMP:20260422T051612Z
DTSTART:20260119T235959
DTEND:20260120T005959
SUMMARY:Cierre: Suministro \, instalación\, configuración y mantenim
DESCRIPTION:Suministro \, instalación\, configuración y mantenimiento de un sistema de avisos de prioridad para la gestión de emergencias en MAZ.M.C.S.S nº 11\\n\\nOrganismo: Gerencia de MAZ Mútua de Accidentes de Trabajo y Enfermedades Profesionales de la Seguridad Social nº 11\\n\\nVer en Contratero: https://contratero.es/contracts/2025/A/SUM/0408
URL:https://contratero.es/contracts/2025/A/SUM/0408
STATUS:CONFIRMED
BEGIN:VALARM
TRIGGER:-P1D
ACTION:DISPLAY
DESCRIPTION:Recordatorio: Suministro \, instalación\, conf
END:VALARM
END:VEVENT
END:VCALENDAR