BEGIN:VCALENDAR
VERSION:2.0
PRODID:-//Contratero//ES
CALSCALE:GREGORIAN
METHOD:PUBLISH
BEGIN:VEVENT
UID:2025/A/SUM/0751@contratero.es
DTSTAMP:20260421T185211Z
DTSTART:20260108T235959
DTEND:20260109T005959
SUMMARY:Cierre: Software para la formación de bienvenida (onboardi
DESCRIPTION:Software para la formación de bienvenida (onboarding) mediante videojuego formativo para MAZ M.C.S.S. nº 11\\n\\nOrganismo: Dirección Área Jurídica y Prestación de MAZ\, Mutua Colaboradora con la Seguridad Social\, Nº 11\\n\\nVer en Contratero: https://contratero.es/contracts/2025/A/SUM/0751
URL:https://contratero.es/contracts/2025/A/SUM/0751
STATUS:CONFIRMED
BEGIN:VALARM
TRIGGER:-P1D
ACTION:DISPLAY
DESCRIPTION:Recordatorio: Software para la formación de 
END:VALARM
END:VEVENT
END:VCALENDAR