BEGIN:VCALENDAR
VERSION:2.0
PRODID:-//Contratero//ES
CALSCALE:GREGORIAN
METHOD:PUBLISH
BEGIN:VEVENT
UID:2025/AR21U/00001848E@contratero.es
DTSTAMP:20260420T190856Z
DTSTART:20251118T235959
DTEND:20251119T005959
SUMMARY:Cierre: Suministro de equipamiento HW para proyecto de rea
DESCRIPTION:Suministro de equipamiento HW para proyecto de realidad virtual CAVIR FASE 2\\n\\nOrganismo: Intendencia de Madrid\\n\\nVer en Contratero: https://contratero.es/contracts/2025/AR21U/00001848E
URL:https://contratero.es/contracts/2025/AR21U/00001848E
STATUS:CONFIRMED
BEGIN:VALARM
TRIGGER:-P1D
ACTION:DISPLAY
DESCRIPTION:Recordatorio: Suministro de equipamiento HW 
END:VALARM
END:VEVENT
END:VCALENDAR