BEGIN:VCALENDAR
VERSION:2.0
PRODID:-//Contratero//ES
CALSCALE:GREGORIAN
METHOD:PUBLISH
BEGIN:VEVENT
UID:2025/AR40U/00000422E@contratero.es
DTSTAMP:20260423T201919Z
DTSTART:20250428T235959
DTEND:20250429T005959
SUMMARY:Cierre: Asistencia Técnica para servicio de acceso a las B
DESCRIPTION:Asistencia Técnica para servicio de acceso a las Bases de datos S-AIS (SATELITD IDENTIFICATION SYSTEM)para su explotación en SIVICEMAR\\n\\nOrganismo: Dirección de Gestión Económica de la Jefatura de Apoyo Logístico de la Armada\\n\\nVer en Contratero: https://contratero.es/contracts/2025/AR40U/00000422E
URL:https://contratero.es/contracts/2025/AR40U/00000422E
STATUS:CONFIRMED
BEGIN:VALARM
TRIGGER:-P1D
ACTION:DISPLAY
DESCRIPTION:Recordatorio: Asistencia Técnica para servic
END:VALARM
END:VEVENT
END:VCALENDAR