BEGIN:VCALENDAR
VERSION:2.0
PRODID:-//Contratero//ES
CALSCALE:GREGORIAN
METHOD:PUBLISH
BEGIN:VEVENT
UID:2025/AR46U/00001586E@contratero.es
DTSTAMP:20260422T175517Z
DTSTART:20251113T235959
DTEND:20251114T005959
SUMMARY:Cierre: Actualización del sistema MET/CAL del laboratorio 
DESCRIPTION:Actualización del sistema MET/CAL del laboratorio de calibración del GASFLOAN\\n\\nOrganismo: Intendente de Rota\\n\\nVer en Contratero: https://contratero.es/contracts/2025/AR46U/00001586E
URL:https://contratero.es/contracts/2025/AR46U/00001586E
STATUS:CONFIRMED
BEGIN:VALARM
TRIGGER:-P1D
ACTION:DISPLAY
DESCRIPTION:Recordatorio: Actualización del sistema MET/
END:VALARM
END:VEVENT
END:VCALENDAR