BEGIN:VCALENDAR
VERSION:2.0
PRODID:-//Contratero//ES
CALSCALE:GREGORIAN
METHOD:PUBLISH
BEGIN:VEVENT
UID:2025/D22200/006-212/00001@contratero.es
DTSTAMP:20260420T173043Z
DTSTART:20250408T235959
DTEND:20250409T005959
SUMMARY:Cierre: suscripción (derecho de uso)\, por tres (3) años\, d
DESCRIPTION:suscripción (derecho de uso)\, por tres (3) años\, de 25 licencias de software administrador de núcleo que nos permita proteger la integridad de nuestro disco duro y sistema operativo\, destinados a la c...\\n\\nOrganismo: Junta de Gobierno de la Diputación Provincial de Almería\\n\\nVer en Contratero: https://contratero.es/contracts/2025/D22200/006-212/00001
URL:https://contratero.es/contracts/2025/D22200/006-212/00001
STATUS:CONFIRMED
BEGIN:VALARM
TRIGGER:-P1D
ACTION:DISPLAY
DESCRIPTION:Recordatorio: suscripción (derecho de uso)\, 
END:VALARM
END:VEVENT
END:VCALENDAR