BEGIN:VCALENDAR
VERSION:2.0
PRODID:-//Contratero//ES
CALSCALE:GREGORIAN
METHOD:PUBLISH
BEGIN:VEVENT
UID:2025/EA04/00000736@contratero.es
DTSTAMP:20260421T185217Z
DTSTART:20251203T235959
DTEND:20251204T005959
SUMMARY:Cierre: Asistencia técnica para la gestión\, desarrollo y m
DESCRIPTION:Asistencia técnica para la gestión\, desarrollo y mantenimiento de software en el entorno JAVA del Ejército del Aire y del Espacio\\n\\nOrganismo: Jefatura de la Sección de Gestión Económico-Administrativa de la Dirección de Asuntos Económicos\\n\\nVer en Contratero: https://contratero.es/contracts/2025/EA04/00000736
URL:https://contratero.es/contracts/2025/EA04/00000736
STATUS:CONFIRMED
BEGIN:VALARM
TRIGGER:-P1D
ACTION:DISPLAY
DESCRIPTION:Recordatorio: Asistencia técnica para la ges
END:VALARM
END:VEVENT
END:VCALENDAR