BEGIN:VCALENDAR
VERSION:2.0
PRODID:-//Contratero//ES
CALSCALE:GREGORIAN
METHOD:PUBLISH
BEGIN:VEVENT
UID:2025/EA15/00002013@contratero.es
DTSTAMP:20260422T162021Z
DTSTART:20250908T235959
DTEND:20250909T005959
SUMMARY:Cierre: Asistencia técnica para el análisis\, diseño\, progr
DESCRIPTION:Asistencia técnica para el análisis\, diseño\, programación y mantenimiento de los sistemas de gestión de personal en el ámbito específico del EA\\n\\nOrganismo: Jefatura de la Sección Económico Administrativa 15 Agrupación del Cuartel General del Ejército del Aire\\n\\nVer en Contratero: https://contratero.es/contracts/2025/EA15/00002013
URL:https://contratero.es/contracts/2025/EA15/00002013
STATUS:CONFIRMED
BEGIN:VALARM
TRIGGER:-P1D
ACTION:DISPLAY
DESCRIPTION:Recordatorio: Asistencia técnica para el aná
END:VALARM
END:VEVENT
END:VCALENDAR