BEGIN:VCALENDAR
VERSION:2.0
PRODID:-//Contratero//ES
CALSCALE:GREGORIAN
METHOD:PUBLISH
BEGIN:VEVENT
UID:2025/EA26/00001888E@contratero.es
DTSTAMP:20260424T130827Z
DTSTART:20251105T235959
DTEND:20251106T005959
SUMMARY:Cierre: Integración subred comunicaciones del sistema de s
DESCRIPTION:Integración subred comunicaciones del sistema de señalización de impactos.\\n\\nOrganismo: Jefatura de la Sección Económico-Administrativa 26 - Base Aérea de Zaragoza (Agrupación BASE)\\n\\nVer en Contratero: https://contratero.es/contracts/2025/EA26/00001888E
URL:https://contratero.es/contracts/2025/EA26/00001888E
STATUS:CONFIRMED
BEGIN:VALARM
TRIGGER:-P1D
ACTION:DISPLAY
DESCRIPTION:Recordatorio: Integración subred comunicacio
END:VALARM
END:VEVENT
END:VCALENDAR