BEGIN:VCALENDAR
VERSION:2.0
PRODID:-//Contratero//ES
CALSCALE:GREGORIAN
METHOD:PUBLISH
BEGIN:VEVENT
UID:2025/ETSAE0287/00000141E@contratero.es
DTSTAMP:20260420T004503Z
DTSTART:20250327T235959
DTEND:20250328T005959
SUMMARY:Cierre: Inventario de los fondos archivísticos de expedien
DESCRIPTION:Inventario de los fondos archivísticos de expedientes personales del RAMIX nº32 de Melilla en el Archivo Intermedio del Centro de Historia y Cultura Militar de Melilla\\n\\nOrganismo: Jefatura de Asuntos Económicos del CG de la Comandancia Gral. de Melilla\\n\\nVer en Contratero: https://contratero.es/contracts/2025/ETSAE0287/00000141E
URL:https://contratero.es/contracts/2025/ETSAE0287/00000141E
STATUS:CONFIRMED
BEGIN:VALARM
TRIGGER:-P1D
ACTION:DISPLAY
DESCRIPTION:Recordatorio: Inventario de los fondos archi
END:VALARM
END:VEVENT
END:VCALENDAR