BEGIN:VCALENDAR
VERSION:2.0
PRODID:-//Contratero//ES
CALSCALE:GREGORIAN
METHOD:PUBLISH
BEGIN:VEVENT
UID:2025/ETSAE0904/00000109E@contratero.es
DTSTAMP:20260422T134327Z
DTSTART:20250325T235959
DTEND:20250326T005959
SUMMARY:Cierre: Renovación del soporte de licencia de software de 
DESCRIPTION:Renovación del soporte de licencia de software de transcripción\\n\\nOrganismo: Sección de Asuntos Económicos de la Jefatura Sistemas de Información\, Telecomunicaciones y Asistencia Técnica\\n\\nVer en Contratero: https://contratero.es/contracts/2025/ETSAE0904/00000109E
URL:https://contratero.es/contracts/2025/ETSAE0904/00000109E
STATUS:CONFIRMED
BEGIN:VALARM
TRIGGER:-P1D
ACTION:DISPLAY
DESCRIPTION:Recordatorio: Renovación del soporte de lice
END:VALARM
END:VEVENT
END:VCALENDAR